{
 "currentVersion": 10.91,
 "cimVersion": "2.9.0",
 "serviceDescription": "",
 "mapName": "Biospatial Slope",
 "description": "",
 "copyrightText": "",
 "supportsDynamicLayers": false,
 "layers": [
  {
   "id": 0,
   "name": "Slope25And35.tiff",
   "parentLayerId": -1,
   "defaultVisibility": true,
   "subLayerIds": null,
   "minScale": 0,
   "maxScale": 0,
   "type": "Raster Layer",
   "supportsDynamicLegends": true
  }
 ],
 "tables": [],
 "spatialReference": {
  "wkid": 2193,
  "latestWkid": 2193,
  "xyTolerance": 0.001,
  "zTolerance": 0.001,
  "mTolerance": 0.001,
  "falseX": -4020900,
  "falseY": 1900,
  "xyUnits": 10000,
  "falseZ": -100000,
  "zUnits": 10000,
  "falseM": -100000,
  "mUnits": 10000
 },
 "singleFusedMapCache": true,
 "tileInfo": {
  "rows": 512,
  "cols": 512,
  "dpi": 96,
  "format": "PNG8",
  "compressionQuality": 0,
  "origin": {
   "x": -4020900,
   "y": 19998100
  },
  "spatialReference": {
   "wkid": 2193,
   "latestWkid": 2193,
   "xyTolerance": 0.001,
   "zTolerance": 0.001,
   "mTolerance": 0.001,
   "falseX": -4020900,
   "falseY": 1900,
   "xyUnits": 10000,
   "falseZ": -100000,
   "zUnits": 10000,
   "falseM": -100000,
   "mUnits": 10000
  },
  "lods": [
   {
    "level": 0,
    "resolution": 39135.75848199984,
    "scale": 1.47914381897888E8
   },
   {
    "level": 1,
    "resolution": 19567.87924099992,
    "scale": 7.3957190948944E7
   },
   {
    "level": 2,
    "resolution": 9783.93962049996,
    "scale": 3.6978595474472E7
   },
   {
    "level": 3,
    "resolution": 4891.96981024998,
    "scale": 1.8489297737236E7
   },
   {
    "level": 4,
    "resolution": 2445.98490512499,
    "scale": 9244648.868618
   },
   {
    "level": 5,
    "resolution": 1222.992452562495,
    "scale": 4622324.434309
   },
   {
    "level": 6,
    "resolution": 611.4962262813797,
    "scale": 2311162.217155
   },
   {
    "level": 7,
    "resolution": 305.74811314055756,
    "scale": 1155581.108577
   },
   {
    "level": 8,
    "resolution": 152.87405657041106,
    "scale": 577790.554289
   },
   {
    "level": 9,
    "resolution": 76.43702828507324,
    "scale": 288895.277144
   },
   {
    "level": 10,
    "resolution": 38.21851414253662,
    "scale": 144447.638572
   },
   {
    "level": 11,
    "resolution": 19.10925707126831,
    "scale": 72223.819286
   },
   {
    "level": 12,
    "resolution": 9.554628535634155,
    "scale": 36111.909643
   },
   {
    "level": 13,
    "resolution": 4.77731426794937,
    "scale": 18055.954822
   },
   {
    "level": 14,
    "resolution": 2.388657133974685,
    "scale": 9027.977411
   },
   {
    "level": 15,
    "resolution": 1.1943285668550503,
    "scale": 4513.988705
   },
   {
    "level": 16,
    "resolution": 0.5971642835598172,
    "scale": 2256.994353
   },
   {
    "level": 17,
    "resolution": 0.29858214164761665,
    "scale": 1128.497176
   },
   {
    "level": 18,
    "resolution": 0.14929107082380833,
    "scale": 564.248588
   },
   {
    "level": 19,
    "resolution": 0.07464553541190416,
    "scale": 282.124294
   }
  ]
 },
 "storageInfo": {
  "storageFormat": "esriMapCacheStorageModeCompactV2",
  "packetSize": 128
 },
 "initialExtent": {
  "xmin": 1564081.5882228904,
  "ymin": 5998408.037225779,
  "xmax": 1780734.6327693395,
  "ymax": 6154962.853225781,
  "spatialReference": {
   "wkid": 2193,
   "latestWkid": 2193,
   "xyTolerance": 0.001,
   "zTolerance": 0.001,
   "mTolerance": 0.001,
   "falseX": -4020900,
   "falseY": 1900,
   "xyUnits": 10000,
   "falseZ": -100000,
   "zUnits": 10000,
   "falseM": -100000,
   "mUnits": 10000
  }
 },
 "fullExtent": {
  "xmin": 1566464.9999999988,
  "ymin": 5971853,
  "xmax": 1760966.000000001,
  "ymax": 6194232,
  "spatialReference": {
   "wkid": 2193,
   "latestWkid": 2193,
   "xyTolerance": 0.001,
   "zTolerance": 0.001,
   "mTolerance": 0.001,
   "falseX": -4020900,
   "falseY": 1900,
   "xyUnits": 10000,
   "falseZ": -100000,
   "zUnits": 10000,
   "falseM": -100000,
   "mUnits": 10000
  }
 },
 "datesInUnknownTimezone": false,
 "units": "esriMeters",
 "supportedImageFormatTypes": "PNG32,PNG24,PNG,JPG,DIB,TIFF,EMF,PS,PDF,GIF,SVG,SVGZ,BMP",
 "documentInfo": {
  "Title": "\\\\NRCSQL\\data\\administration\\projects\\NRC_Tile\\NRC_Tile.aprx",
  "Author": "",
  "Comments": "",
  "Subject": "",
  "Category": "",
  "AntialiasingMode": "None",
  "TextAntialiasingMode": "Force",
  "Version": "2.9.0",
  "Keywords": ""
 },
 "supportedQueryFormats": "JSON, geoJSON, PBF",
 "referenceScale": 0.0,
 "supportsDatumTransformation": true,
 "floorAwareMapProperties": {
  "defaultFloorFilterSettings": {
   "isEnabled": true
  }
 },
 "archivingInfo": {
  "supportsHistoricMoment": false
 },
 "supportsClipping": true,
 "supportsSpatialFilter": true,
 "supportsTimeRelation": true,
 "supportsQueryDataElements": true,
 "maxRecordCount": 1000,
 "maxImageHeight": 4096,
 "maxImageWidth": 4096,
 "minScale": 2311162.217155,
 "maxScale": 18055.954822,
 "exportTilesAllowed": false,
 "maxExportTilesCount": 100000,
 "capabilities": "TilesOnly,Tilemap",
 "minLOD": 6,
 "maxLOD": 13,
 "supportedExtensions": "",
 "serviceItemId": "3b683dfdca6247349128f99878cb1068"
}
